BEGIN:VCALENDAR
VERSION:2.0
PRODID:-//Freiwillige Feuerwehr Obergralla - ECPv6.10.2//NONSGML v1.0//EN
CALSCALE:GREGORIAN
METHOD:PUBLISH
X-WR-CALNAME:Freiwillige Feuerwehr Obergralla
X-ORIGINAL-URL:https://www.ff-obergralla.com
X-WR-CALDESC:Veranstaltungen für Freiwillige Feuerwehr Obergralla
REFRESH-INTERVAL;VALUE=DURATION:PT1H
X-Robots-Tag:noindex
X-PUBLISHED-TTL:PT1H
BEGIN:VTIMEZONE
TZID:Europe/Berlin
BEGIN:DAYLIGHT
TZOFFSETFROM:+0100
TZOFFSETTO:+0200
TZNAME:CEST
DTSTART:20250330T010000
END:DAYLIGHT
BEGIN:STANDARD
TZOFFSETFROM:+0200
TZOFFSETTO:+0100
TZNAME:CET
DTSTART:20251026T010000
END:STANDARD
END:VTIMEZONE
BEGIN:VEVENT
DTSTART;TZID=Europe/Berlin:20251220T180000
DTEND;TZID=Europe/Berlin:20251220T210000
DTSTAMP:20260421T134150
CREATED:20251115T101337Z
LAST-MODIFIED:20251115T102110Z
UID:10000003-1766253600-1766264400@www.ff-obergralla.com
SUMMARY:Die Edlseer Weihnacht
DESCRIPTION:
URL:https://www.ff-obergralla.com/veranstaltung/die-edlseer-weihnacht/
ATTACH;FMTTYPE=image/jpeg:https://www.ff-obergralla.com/wp-content/uploads/2025/11/20250321_080935000_iOS.jpg
END:VEVENT
END:VCALENDAR